BEGIN:VCALENDAR
VERSION:2.0
PRODID:-//Eventin//Event Calendar//EN
CALSCALE:GREGORIAN
METHOD:PUBLISH
BEGIN:VEVENT
UID:dc95657aee112719d5aeff997c023b6d@acces.ma
SUMMARY:Evenement test
DESCRIPTION:Description\nInfluential media\, entertainment & technology sho
 w inspirational speakers including game changing not just a large-scale con
 ference\, but a large educational hub on digital technologies for business\
 , where people communicate\, get inspired and find ready-made solutions or 
 business. Taking place over two days this year will be the 10th Conference 
 Ideas with a theme of Dangerous Realities. It features sessions and perform
 ances that explore climate change\, meritocracy\, giving Influential media\
 , entertainment & technology show inspirational speakers including game cha
 nging not just a large-scale conference\, but a large educational hub on di
 gital technologies for business\, where people communicate\, get inspired a
 nd find ready-made solutions or business.\nDuring this event we’ll cover\
 n\nHow to get started learning JavaScript the right way\nJavaScript for Beg
 inners & CS Prep curriculum details\nWhat the experience of learning in an 
 online classroom is like\nHow these programs prepare you for Coders and oth
 er top coding programsHere is the teaser\n\nHere is the teaser
LOCATION:OUJDA
DTSTAMP:20260424T154954Z
DTSTART:20260428T090000Z
DTEND:20260429T153000Z
END:VEVENT
END:VCALENDAR
